BEGIN:VCALENDAR
VERSION:2.0
PRODID:-//Faba - ECPv5.11.0//NONSGML v1.0//EN
CALSCALE:GREGORIAN
METHOD:PUBLISH
X-WR-CALNAME:Faba
X-ORIGINAL-URL:https://www.faba.be
X-WR-CALDESC:Evenementen voor Faba
BEGIN:VTIMEZONE
TZID:UTC
BEGIN:STANDARD
TZOFFSETFROM:+0000
TZOFFSETTO:+0000
TZNAME:UTC
DTSTART:20210101T000000
END:STANDARD
END:VTIMEZONE
BEGIN:VEVENT
DTSTART;VALUE=DATE:20211109
DTEND;VALUE=DATE:20211110
DTSTAMP:20260423T092628
CREATED:20210910T142838Z
LAST-MODIFIED:20210910T142838Z
UID:2674-1636416000-1636502399@www.faba.be
SUMMARY:Beheerraad Groepering van Algemene Aannemers Houtbouw
DESCRIPTION:
URL:https://www.faba.be/event-nl/beheerraad-groepering-van-algemene-aannemers-houtbouw/
END:VEVENT
END:VCALENDAR