BEGIN:VCALENDAR
VERSION:2.0
PRODID:-//Faba - ECPv5.11.0//NONSGML v1.0//EN
CALSCALE:GREGORIAN
METHOD:PUBLISH
X-WR-CALNAME:Faba
X-ORIGINAL-URL:https://www.faba.be
X-WR-CALDESC:Evenementen voor Faba
BEGIN:VTIMEZONE
TZID:UTC
BEGIN:STANDARD
TZOFFSETFROM:+0000
TZOFFSETTO:+0000
TZNAME:UTC
DTSTART:20210101T000000
END:STANDARD
END:VTIMEZONE
BEGIN:VEVENT
DTSTART;VALUE=DATE:20210906
DTEND;VALUE=DATE:20210907
DTSTAMP:20260423T205454
CREATED:20210910T143034Z
LAST-MODIFIED:20210910T143034Z
UID:2684-1630886400-1630972799@www.faba.be
SUMMARY:Beheerraad Groepering van Algemene Aannemers van Zwembadbouwers
DESCRIPTION:
URL:https://www.faba.be/event-nl/beheerraad-groepering-van-algemene-aannemers-van-zwembadbouwers-2/
END:VEVENT
END:VCALENDAR