BEGIN:VCALENDAR
VERSION:2.0
PRODID:-//Faba - ECPv5.11.0//NONSGML v1.0//EN
CALSCALE:GREGORIAN
METHOD:PUBLISH
X-WR-CALNAME:Faba
X-ORIGINAL-URL:https://www.faba.be
X-WR-CALDESC:Evenementen voor Faba
BEGIN:VTIMEZONE
TZID:UTC
BEGIN:STANDARD
TZOFFSETFROM:+0000
TZOFFSETTO:+0000
TZNAME:UTC
DTSTART:20220101T000000
END:STANDARD
END:VTIMEZONE
BEGIN:VEVENT
DTSTART;VALUE=DATE:20220427
DTEND;VALUE=DATE:20220428
DTSTAMP:20260420T184509
CREATED:20211223T150611Z
LAST-MODIFIED:20211223T150611Z
UID:3967-1651017600-1651103999@www.faba.be
SUMMARY:Faba - Bestuurscomité
DESCRIPTION:
URL:https://www.faba.be/event-nl/faba-bestuurscomite-2/
END:VEVENT
END:VCALENDAR