BEGIN:VCALENDAR
VERSION:2.0
PRODID:-//Faba - ECPv5.11.0//NONSGML v1.0//EN
CALSCALE:GREGORIAN
METHOD:PUBLISH
X-WR-CALNAME:Faba
X-ORIGINAL-URL:https://www.faba.be
X-WR-CALDESC:Evenementen voor Faba
BEGIN:VTIMEZONE
TZID:UTC
BEGIN:STANDARD
TZOFFSETFROM:+0000
TZOFFSETTO:+0000
TZNAME:UTC
DTSTART:20210101T000000
END:STANDARD
END:VTIMEZONE
BEGIN:VEVENT
DTSTART;VALUE=DATE:20210912
DTEND;VALUE=DATE:20210913
DTSTAMP:20260423T092428
CREATED:20210910T143004Z
LAST-MODIFIED:20210910T143004Z
UID:2682-1631404800-1631491199@www.faba.be
SUMMARY:Faba - Raad van Bestuur
DESCRIPTION:
URL:https://www.faba.be/event-nl/faba-raad-van-bestuur-2/
END:VEVENT
END:VCALENDAR