BEGIN:VCALENDAR
VERSION:2.0
PRODID:-//Faba - ECPv5.11.0//NONSGML v1.0//EN
CALSCALE:GREGORIAN
METHOD:PUBLISH
X-WR-CALNAME:Faba
X-ORIGINAL-URL:https://www.faba.be
X-WR-CALDESC:Evenementen voor Faba
BEGIN:VTIMEZONE
TZID:UTC
BEGIN:STANDARD
TZOFFSETFROM:+0000
TZOFFSETTO:+0000
TZNAME:UTC
DTSTART:20210101T000000
END:STANDARD
END:VTIMEZONE
BEGIN:VEVENT
DTSTART;VALUE=DATE:20210908
DTEND;VALUE=DATE:20210909
DTSTAMP:20260423T172105
CREATED:20210910T143022Z
LAST-MODIFIED:20210910T143022Z
UID:2683-1631059200-1631145599@www.faba.be
SUMMARY:Raad van Bestuur van de Federatie van Ontwikkelaars-Woningbouwers
DESCRIPTION:
URL:https://www.faba.be/event-nl/raad-van-bestuur-van-de-federatie-van-ontwikkelaars-woningbouwers-2/
END:VEVENT
END:VCALENDAR